BEGIN:VCALENDAR
VERSION:2.0
PRODID:-//Pionra//Events Calendar//EN
CALSCALE:GREGORIAN
METHOD:PUBLISH
X-WR-CALNAME:Stage Papier Mâché : créations et œuvre collective
X-WR-CALDESC:Des après-midis d'ateliers créatifs pour façonner ses propr
 es objets et participer à un projet commun.
BEGIN:VEVENT
UID:pionra-event-opendata-paris-82119-4@pionra.local
DTSTAMP:20260423T125749Z
DTSTART:20260423T120000Z
SUMMARY:Stage Papier Mâché : créations et œuvre collective
DESCRIPTION:Des après-midis d'ateliers créatifs pour façonner ses propre
 s objets et participer à un projet commun.\n\nhttps://pionra.fr/fr/events
 /opendata-paris-82119-4
URL:https://pionra.fr/fr/events/opendata-paris-82119-4
STATUS:CONFIRMED
DTEND:20260423T133000Z
LOCATION:Centre Paris Anim' Musidora (ex Bercy)\, Centre Paris Anim' Musido
 ra (ex Bercy)\, 51 rue François Truffaut\, Paris\, Paris
END:VEVENT
END:VCALENDAR
