BEGIN:VCALENDAR
VERSION:2.0
PRODID:-//Pionra//Events Calendar//EN
CALSCALE:GREGORIAN
METHOD:PUBLISH
X-WR-CALNAME:Compose un mini ikebana
X-WR-CALDESC:Cet atelier d'initiation à l'art de l’ikebana permettra au 
 jeune public d'apprendre à composer de petits arrangements floraux en sui
 vant les règles de base de cet art ancien.
BEGIN:VEVENT
UID:pionra-event-opendata-paris-82225-2@pionra.local
DTSTAMP:20260423T125749Z
DTSTART:20260423T140000Z
SUMMARY:Compose un mini ikebana
DESCRIPTION:Cet atelier d'initiation à l'art de l’ikebana permettra au j
 eune public d'apprendre à composer de petits arrangements floraux en suiv
 ant les règles de base de cet art ancien.\n\nhttps://pionra.fr/fr/events/
 opendata-paris-82225-2
URL:https://pionra.fr/fr/events/opendata-paris-82225-2
STATUS:CONFIRMED
DTEND:20260423T150000Z
LOCATION:Maison de la culture du Japon à Paris\, Maison de la culture du J
 apon à Paris\, 101 bis Quai Jacques Chirac\, Paris\, Paris
END:VEVENT
END:VCALENDAR
