BEGIN:VCALENDAR
VERSION:2.0
PRODID:-//Pionra//Events Calendar//EN
CALSCALE:GREGORIAN
METHOD:PUBLISH
X-WR-CALNAME:L'etrangère + Koclico
X-WR-CALDESC:Mêlant influences post-rock et chanson française à textes\,
  l’Etrangère est seule sur scène avec son looper\, sa boîte à rythme
 s vintage et ses multiples instruments.
BEGIN:VEVENT
UID:pionra-event-opendata-paris-83048-1@pionra.local
DTSTAMP:20260423T125521Z
DTSTART:20260423T180000Z
SUMMARY:L'etrangère + Koclico
DESCRIPTION:Mêlant influences post-rock et chanson française à textes\, 
 l’Etrangère est seule sur scène avec son looper\, sa boîte à rythmes
  vintage et ses multiples instruments.\n\nhttps://pionra.fr/fr/events/open
 data-paris-83048-1
URL:https://pionra.fr/fr/events/opendata-paris-83048-1
STATUS:CONFIRMED
DTEND:20260423T215900Z
LOCATION:Bateau El Alamein\, Bateau El Alamein\, 8 port de la gare\, Paris\
 , Paris
END:VEVENT
END:VCALENDAR
