BEGIN:VCALENDAR
VERSION:2.0
PRODID:-//Pionra//Events Calendar//EN
CALSCALE:GREGORIAN
METHOD:PUBLISH
X-WR-CALNAME:Beside Party #4
X-WR-CALDESC:Rendez-vous le jeudi 23 avril au Hasard Ludique pour la quatri
 ème édition de la Beside Party !
BEGIN:VEVENT
UID:pionra-event-opendata-paris-83193-1@pionra.local
DTSTAMP:20260423T125547Z
DTSTART:20260423T180000Z
SUMMARY:Beside Party #4
DESCRIPTION:Rendez-vous le jeudi 23 avril au Hasard Ludique pour la quatri
 ème édition de la Beside Party !\n\nhttps://pionra.fr/fr/events/opendata
 -paris-83193-1
URL:https://pionra.fr/fr/events/opendata-paris-83193-1
STATUS:CONFIRMED
DTEND:20260423T215900Z
LOCATION:Le Hasard Ludique\, Le Hasard Ludique\, 128 Avenue de Saint-Ouen\,
  Paris\, Paris
END:VEVENT
END:VCALENDAR
