BEGIN:VCALENDAR
VERSION:2.0
PRODID:-//Pionra//Events Calendar//EN
CALSCALE:GREGORIAN
METHOD:PUBLISH
X-WR-CALNAME:Ciné-débat de Génération Panasiatique : "Funan" de Denis D
 o
X-WR-CALDESC:Projection gratuite suivie d'une discussion en présence du r
 éalisateur.
BEGIN:VEVENT
UID:pionra-event-opendata-paris-83475-1@pionra.local
DTSTAMP:20260423T125749Z
DTSTART:20260423T170000Z
SUMMARY:Ciné-débat de Génération Panasiatique : "Funan" de Denis Do
DESCRIPTION:Projection gratuite suivie d'une discussion en présence du ré
 alisateur.\n\nhttps://pionra.fr/fr/events/opendata-paris-83475-1
URL:https://pionra.fr/fr/events/opendata-paris-83475-1
STATUS:CONFIRMED
DTEND:20260423T194500Z
LOCATION:Maison de la vie associative et citoyenne Paris 13\, Maison de la 
 vie associative et citoyenne Paris 13\, 31 rue Bobillot\, Paris\, Paris
END:VEVENT
END:VCALENDAR
