BEGIN:VCALENDAR
VERSION:2.0
PRODID:-//Pionra//Events Calendar//EN
CALSCALE:GREGORIAN
METHOD:PUBLISH
X-WR-CALNAME:Pionra Events
X-WR-CALDESC:Événements à venir sur Pionra
BEGIN:VEVENT
UID:pionra-event-events-seed-20@pionra.local
DTSTAMP:20260422T232058Z
DTSTART:20260713T193000Z
SUMMARY:Webinaire assurance santé en France · cas concrets
DESCRIPTION:Session utile pour comprendre mutuelle\, CPAM\, urgences et rem
 boursements sans jargon.\n\nhttps://pionra.fr/pt/events/events-seed-20
URL:https://pionra.fr/pt/events/events-seed-20
STATUS:CONFIRMED
DTEND:20260713T213000Z
LOCATION:Online
END:VEVENT
END:VCALENDAR
