BEGIN:VCALENDAR
VERSION:2.0
PRODID:-//Pionra//Events Calendar//EN
CALSCALE:GREGORIAN
METHOD:PUBLISH
X-WR-CALNAME:J’ai envie de toi
X-WR-CALDESC:Comédie Écrire un texto et se tromper de destinataire\, c’
 est très embêtant !Le SMS est prêt à être envoyé. On le relit une de
 rnière fois. Inconsciemment\, le pouce l’envoie. Au même moment\, on s
 e rend compte qu’on s’est…
BEGIN:VEVENT
UID:pionra-event-nantes-agenda-65874@pionra.local
DTSTAMP:20260423T133544Z
DTSTART:20260529T183000Z
SUMMARY:J’ai envie de toi
DESCRIPTION:Comédie Écrire un texto et se tromper de destinataire\, c’e
 st très embêtant !Le SMS est prêt à être envoyé. On le relit une der
 nière fois. Inconsciemment\, le pouce l’envoie. Au même moment\, on se
  rend compte qu’on s’est…\n\nhttps://pionra.fr/pt/events/nantes-agen
 da-65874
URL:https://pionra.fr/pt/events/nantes-agenda-65874
STATUS:CONFIRMED
DTEND:20260529T200000Z
LOCATION:Théâtre Beaulieu\, Théâtre Beaulieu\, 9 Bis Boulevard Françoi
 s Blancho\, 44200\, Nantes\, Nantes
END:VEVENT
END:VCALENDAR
