BEGIN:VCALENDAR
VERSION:2.0
PRODID:-//Pionra//Events Calendar//EN
CALSCALE:GREGORIAN
METHOD:PUBLISH
X-WR-CALNAME:Musée gratuit tous les 1ers dimanches du mois
X-WR-CALDESC:Le premier dimanche de chaque mois (hors juillet et août)\, l
 e Musée d'arts de Nantes est en entrée libre !
BEGIN:VEVENT
UID:pionra-event-nantes-agenda-70222@pionra.local
DTSTAMP:20260423T133527Z
DTSTART:20260503T090000Z
SUMMARY:Musée gratuit tous les 1ers dimanches du mois
DESCRIPTION:Le premier dimanche de chaque mois (hors juillet et août)\, le
  Musée d'arts de Nantes est en entrée libre !\n\nhttps://pionra.fr/pt/ev
 ents/nantes-agenda-70222
URL:https://pionra.fr/pt/events/nantes-agenda-70222
STATUS:CONFIRMED
DTEND:20260503T170000Z
LOCATION:Musée d'arts de Nantes\, Musée d'arts de Nantes\, 10 Rue Georges
  Clemenceau\, 44000\, Nantes\, Nantes
END:VEVENT
END:VCALENDAR
