BEGIN:VCALENDAR
VERSION:2.0
PRODID:-//Pionra//Events Calendar//EN
CALSCALE:GREGORIAN
METHOD:PUBLISH
X-WR-CALNAME:Birds On a Wire - Rosemary Standley & Dom la Nena
X-WR-CALDESC:Au cœur d’une clairière\, installé au pied d’un arbre\,
  le duo formé par Rosemary Standley et Dom La Nena explore avec virtuosit
 é un paysage musical varié\, comme une traversée des saisons. Aussi hab
 iles pour redonner vie…
BEGIN:VEVENT
UID:pionra-event-nantes-agenda-71359@pionra.local
DTSTAMP:20260423T144317Z
DTSTART:20260427T183000Z
SUMMARY:Birds On a Wire - Rosemary Standley & Dom la Nena
DESCRIPTION:Au cœur d’une clairière\, installé au pied d’un arbre\, 
 le duo formé par Rosemary Standley et Dom La Nena explore avec virtuosit
 é un paysage musical varié\, comme une traversée des saisons. Aussi hab
 iles pour redonner vie…\n\nhttps://pionra.fr/pt/events/nantes-agenda-713
 59
URL:https://pionra.fr/pt/events/nantes-agenda-71359
STATUS:CONFIRMED
DTEND:20260427T201500Z
LOCATION:Odyssée\, Odyssée\, 1 Route de Basse Indre\, 44700\, Orvault\, O
 rvault
END:VEVENT
END:VCALENDAR
