BEGIN:VCALENDAR
VERSION:2.0
PRODID:-//Pionra//Events Calendar//EN
CALSCALE:GREGORIAN
METHOD:PUBLISH
X-WR-CALNAME:Scène ouverte au Pannonica
X-WR-CALDESC:• Vous êtes chanteur·euse\, slameur·euse\, seul·e ou en 
 groupe (5 personnes maximum)• Vous êtes des artistes amateurs·trices
 • Votre répertoire (original ou reprises) est en français ?Notre Scèn
 e Ouverte est faite pour vou…
BEGIN:VEVENT
UID:pionra-event-nantes-agenda-72743@pionra.local
DTSTAMP:20260423T133527Z
DTSTART:20260426T130000Z
SUMMARY:Scène ouverte au Pannonica
DESCRIPTION:• Vous êtes chanteur·euse\, slameur·euse\, seul·e ou en g
 roupe (5 personnes maximum)• Vous êtes des artistes amateurs·trices•
  Votre répertoire (original ou reprises) est en français ?Notre Scène O
 uverte est faite pour vou…\n\nhttps://pionra.fr/pt/events/nantes-agenda-
 72743
URL:https://pionra.fr/pt/events/nantes-agenda-72743
STATUS:CONFIRMED
DTEND:20260426T150000Z
LOCATION:Pannonica\, Pannonica\, 9 Rue Basse Porte\, 44000\, Nantes\, Nante
 s
END:VEVENT
END:VCALENDAR
