BEGIN:VCALENDAR
VERSION:2.0
PRODID:-//Pionra//Events Calendar//EN
CALSCALE:GREGORIAN
METHOD:PUBLISH
X-WR-CALNAME:Les garçons et Guillaume\, à table !
X-WR-CALDESC:Théâtre Encore jeune garçon\, Guillaume pense qu’il est u
 ne fille. Du moins se comporte-t-il comme tel\, ce qui n’est pas pour d
 éplaire à sa mère qui ne manque pas une occasion d’entretenir la conf
 usion… Au fil d’un texte…
BEGIN:VEVENT
UID:pionra-event-nantes-agenda-72988@pionra.local
DTSTAMP:20260423T133446Z
DTSTART:20260528T181500Z
SUMMARY:Les garçons et Guillaume\, à table !
DESCRIPTION:Théâtre Encore jeune garçon\, Guillaume pense qu’il est un
 e fille. Du moins se comporte-t-il comme tel\, ce qui n’est pas pour dé
 plaire à sa mère qui ne manque pas une occasion d’entretenir la confus
 ion… Au fil d’un texte…\n\nhttps://pionra.fr/pt/events/nantes-agenda
 -72988
URL:https://pionra.fr/pt/events/nantes-agenda-72988
STATUS:CONFIRMED
DTEND:20260528T193500Z
LOCATION:Théâtre 100 Noms\, Théâtre 100 Noms\, 21 Quai des Antilles - H
 angar à Bananes\, 44200\, Nantes\, Nantes
END:VEVENT
END:VCALENDAR
