BEGIN:VCALENDAR
VERSION:2.0
PRODID:-//Pionra//Events Calendar//EN
CALSCALE:GREGORIAN
METHOD:PUBLISH
X-WR-CALNAME:Africa Pop
X-WR-CALDESC:L’exposition Africa Pop invite les visiteurs à rencontrer l
 es cultures africaines sur le fil du textile\, à travers une conversation
  entre les tissus appelés wax et des objets du quotidien. Ce voyage d’O
 uest en Est\, et d…
BEGIN:VEVENT
UID:pionra-event-nice-agenda-44454-64f05f05cdd338@pionra.local
DTSTAMP:20260423T144352Z
DTSTART:20260502T080000Z
SUMMARY:Africa Pop
DESCRIPTION:L’exposition Africa Pop invite les visiteurs à rencontrer le
 s cultures africaines sur le fil du textile\, à travers une conversation 
 entre les tissus appelés wax et des objets du quotidien. Ce voyage d’Ou
 est en Est\, et d…\n\nhttps://pionra.fr/pt/events/nice-agenda-44454-64f0
 5f05cdd338
URL:https://pionra.fr/pt/events/nice-agenda-44454-64f05f05cdd338
STATUS:CONFIRMED
DTEND:20261018T160000Z
LOCATION:Musée International d&rsquo\;Art Naïf Anatole Jakovsky\, Musée 
 International d&rsquo\;Art Naïf Anatole Jakovsky\, 23 avenue de Fabron\, 
 06200\, Nice\, Nice
END:VEVENT
END:VCALENDAR
