BEGIN:VCALENDAR
VERSION:2.0
PRODID:-//Pionra//Events Calendar//EN
CALSCALE:GREGORIAN
METHOD:PUBLISH
X-WR-CALNAME:Rencontre avec la réalisatrice Mounia Meddour
X-WR-CALDESC:Master class avec la projection de deux de ses films : « Papi
 cha » et « Houria ».
BEGIN:VEVENT
UID:pionra-event-nice-agenda-44827-64fa382fc2ffb4@pionra.local
DTSTAMP:20260423T144241Z
DTSTART:20260426T134500Z
SUMMARY:Rencontre avec la réalisatrice Mounia Meddour
DESCRIPTION:Master class avec la projection de deux de ses films : « Papic
 ha » et « Houria ».\n\nhttps://pionra.fr/pt/events/nice-agenda-44827-64
 fa382fc2ffb4
URL:https://pionra.fr/pt/events/nice-agenda-44827-64fa382fc2ffb4
STATUS:CONFIRMED
DTEND:20260426T134500Z
LOCATION:Cinémathèque\, Cinémathèque\, Cinéma Megarama Nice Vauban - a
 venue François Mitterrand\, 06300\, Nice\, Nice
END:VEVENT
END:VCALENDAR
