BEGIN:VCALENDAR
VERSION:2.0
PRODID:-//Pionra//Events Calendar//EN
CALSCALE:GREGORIAN
METHOD:PUBLISH
X-WR-CALNAME:Le Pont de la rivière Kwai
X-WR-CALDESC:Réalisé par David Lean | The Bridge on the River Kwai | 1957
  | 2h41 | États-Unis\, Royaume-Uni Avec : Alec Guinness\, William Holden\
 , Jack Hawkins\, Sessue Hayakawa
BEGIN:VEVENT
UID:pionra-event-nice-agenda-44947-64fe567015d9ac@pionra.local
DTSTAMP:20260423T144341Z
DTSTART:20260429T170000Z
SUMMARY:Le Pont de la rivière Kwai
DESCRIPTION:Réalisé par David Lean | The Bridge on the River Kwai | 1957 
 | 2h41 | États-Unis\, Royaume-Uni Avec : Alec Guinness\, William Holden\,
  Jack Hawkins\, Sessue Hayakawa\n\nhttps://pionra.fr/pt/events/nice-agenda
 -44947-64fe567015d9ac
URL:https://pionra.fr/pt/events/nice-agenda-44947-64fe567015d9ac
STATUS:CONFIRMED
DTEND:20260429T170000Z
LOCATION:Cinémathèque\, Cinémathèque\, Cinéma Megarama Nice Vauban - a
 venue François Mitterrand\, 06300\, Nice\, Nice
END:VEVENT
END:VCALENDAR
