BEGIN:VCALENDAR
VERSION:2.0
PRODID:-//Pionra//Events Calendar//EN
CALSCALE:GREGORIAN
METHOD:PUBLISH
X-WR-CALNAME:Le Nouveau
X-WR-CALDESC:Réalisé par Rudi Rosenberg | 2014 | 1h21 | France Avec : Ré
 phaël Ghrenassia\, Joshua Raccah\, Géraldine Martineau\, Max Boublil
BEGIN:VEVENT
UID:pionra-event-nice-agenda-44952-64fe56eb6e4034@pionra.local
DTSTAMP:20260423T144351Z
DTSTART:20260505T160000Z
SUMMARY:Le Nouveau
DESCRIPTION:Réalisé par Rudi Rosenberg | 2014 | 1h21 | France Avec : Rép
 haël Ghrenassia\, Joshua Raccah\, Géraldine Martineau\, Max Boublil\n\nh
 ttps://pionra.fr/pt/events/nice-agenda-44952-64fe56eb6e4034
URL:https://pionra.fr/pt/events/nice-agenda-44952-64fe56eb6e4034
STATUS:CONFIRMED
DTEND:20260505T160000Z
LOCATION:Cinémathèque\, Cinémathèque\, Cinéma Megarama Nice Vauban - a
 venue François Mitterrand\, 06300\, Nice\, Nice
END:VEVENT
END:VCALENDAR
