BEGIN:VCALENDAR
VERSION:2.0
PRODID:-//Pionra//Events Calendar//EN
CALSCALE:GREGORIAN
METHOD:PUBLISH
X-WR-CALNAME:Carrier live A/V + Panchronics A/V à la Communale St-Ouen
X-WR-CALDESC:Dans le club pour les lives immersifs de Communale St-Ouen\, l
 a scène se transforme en zone de mutation\, un espace où les formes arti
 stiques se déplacent\, se frottent et se réinventent. Pensé pour accuei
 llir des projets…
BEGIN:VEVENT
UID:pionra-event-opendata-paris-79156-1@pionra.local
DTSTAMP:20260423T131014Z
DTSTART:20260423T180000Z
SUMMARY:Carrier live A/V + Panchronics A/V à la Communale St-Ouen
DESCRIPTION:Dans le club pour les lives immersifs de Communale St-Ouen\, la
  scène se transforme en zone de mutation\, un espace où les formes artis
 tiques se déplacent\, se frottent et se réinventent. Pensé pour accueil
 lir des projets…\n\nhttps://pionra.fr/pt/events/opendata-paris-79156-1
URL:https://pionra.fr/pt/events/opendata-paris-79156-1
STATUS:CONFIRMED
DTEND:20260423T210000Z
LOCATION:Communale Saint-Ouen\, Communale Saint-Ouen\, 10 bis Rue de l'Hipp
 odrome\, Saint-Ouen-sur-Seine\, Saint-Ouen-sur-Seine
END:VEVENT
END:VCALENDAR
