BEGIN:VCALENDAR
VERSION:2.0
PRODID:-//Pionra//Events Calendar//EN
CALSCALE:GREGORIAN
METHOD:PUBLISH
X-WR-CALNAME:Lady Elles : À la vie\, à la scène\, CONCERT
X-WR-CALDESC:Elle l’humour et Elle l’humeur. L’une « intro »\, l’
 autre « extra ». En musique\, Elles vous racontent…
BEGIN:VEVENT
UID:pionra-event-opendata-paris-79895-9@pionra.local
DTSTAMP:20260423T131041Z
DTSTART:20260423T173000Z
SUMMARY:Lady Elles : À la vie\, à la scène\, CONCERT
DESCRIPTION:Elle l’humour et Elle l’humeur. L’une « intro »\, l’a
 utre « extra ». En musique\, Elles vous racontent…\n\nhttps://pionra.f
 r/pt/events/opendata-paris-79895-9
URL:https://pionra.fr/pt/events/opendata-paris-79895-9
STATUS:CONFIRMED
DTEND:20260423T183000Z
LOCATION:Théo Théâtre\, Théo Théâtre\, 20 rue Théodore Deck\, Paris\
 , Paris
END:VEVENT
END:VCALENDAR
