BEGIN:VCALENDAR
VERSION:2.0
PRODID:-//Pionra//Events Calendar//EN
CALSCALE:GREGORIAN
METHOD:PUBLISH
X-WR-CALNAME:Sensibilisation aux spécificités en santé mentale des perso
 nnes LGBT+
X-WR-CALDESC:Sensibilisation à destination des professionnels de santé me
 ntale de Paris centre et du 10e arrondissement
BEGIN:VEVENT
UID:pionra-event-opendata-paris-80927-1@pionra.local
DTSTAMP:20260423T131014Z
DTSTART:20260423T170000Z
SUMMARY:Sensibilisation aux spécificités en santé mentale des personnes 
 LGBT+
DESCRIPTION:Sensibilisation à destination des professionnels de santé men
 tale de Paris centre et du 10e arrondissement\n\nhttps://pionra.fr/pt/even
 ts/opendata-paris-80927-1
URL:https://pionra.fr/pt/events/opendata-paris-80927-1
STATUS:CONFIRMED
DTEND:20260423T190000Z
LOCATION:ENIPSE\, ENIPSE\, 5 rue Pierre au Lard\, Paris\, Paris
END:VEVENT
END:VCALENDAR
