BEGIN:VCALENDAR
VERSION:2.0
PRODID:-//Pionra//Events Calendar//EN
CALSCALE:GREGORIAN
METHOD:PUBLISH
X-WR-CALNAME:Open Mic au FIAP Paris
X-WR-CALDESC:Musiciens\, chanteurs\, danseurs ! Soirée Live unique avec de
 s jeunes talents !
BEGIN:VEVENT
UID:pionra-event-opendata-paris-81022-1@pionra.local
DTSTAMP:20260423T131042Z
DTSTART:20260423T173000Z
SUMMARY:Open Mic au FIAP Paris
DESCRIPTION:Musiciens\, chanteurs\, danseurs ! Soirée Live unique avec des
  jeunes talents !\n\nhttps://pionra.fr/pt/events/opendata-paris-81022-1
URL:https://pionra.fr/pt/events/opendata-paris-81022-1
STATUS:CONFIRMED
DTEND:20260423T203000Z
LOCATION:FIAP Paris\, FIAP Paris\, 30\, rue cabanis\, Paris\, Paris
END:VEVENT
END:VCALENDAR
