BEGIN:VCALENDAR
VERSION:2.0
PRODID:-//Pionra//Events Calendar//EN
CALSCALE:GREGORIAN
METHOD:PUBLISH
X-WR-CALNAME:Le printemps des amphibiens
X-WR-CALDESC:[ Sortie] Que font les amphibiens au printemps ? Venez observe
 r ces animaux dans les mares du Parc Floral de Paris\, découvrez leurs mo
 eurs printanières et participez à une action visant à leur sauvegarde.
BEGIN:VEVENT
UID:pionra-event-opendata-paris-81301-1@pionra.local
DTSTAMP:20260423T131041Z
DTSTART:20260423T120000Z
SUMMARY:Le printemps des amphibiens
DESCRIPTION:[ Sortie] Que font les amphibiens au printemps ? Venez observer
  ces animaux dans les mares du Parc Floral de Paris\, découvrez leurs moe
 urs printanières et participez à une action visant à leur sauvegarde.\n
 \nhttps://pionra.fr/pt/events/opendata-paris-81301-1
URL:https://pionra.fr/pt/events/opendata-paris-81301-1
STATUS:CONFIRMED
DTEND:20260423T143000Z
LOCATION:Maison Paris Nature\, Maison Paris Nature\, Pavillons 1 et 2 du Pa
 rc Floral de Paris\, route de la Pyramide\, Paris\, Paris
END:VEVENT
END:VCALENDAR
