BEGIN:VCALENDAR
VERSION:2.0
PRODID:-//Pionra//Events Calendar//EN
CALSCALE:GREGORIAN
METHOD:PUBLISH
X-WR-CALNAME:Apéro & Tarot
X-WR-CALDESC:Deux ateliers pour découvrir et pratiquer le Tarot de Marseil
 le avec Elizabeth Castel-Körfer : symbolique des cartes\, premiers tirage
 s et échanges dans une atmosphère conviviale\, autour d’un apéro.
BEGIN:VEVENT
UID:pionra-event-opendata-paris-81644-1@pionra.local
DTSTAMP:20260423T131106Z
DTSTART:20260423T160000Z
SUMMARY:Apéro & Tarot
DESCRIPTION:Deux ateliers pour découvrir et pratiquer le Tarot de Marseill
 e avec Elizabeth Castel-Körfer : symbolique des cartes\, premiers tirages
  et échanges dans une atmosphère conviviale\, autour d’un apéro.\n\nh
 ttps://pionra.fr/pt/events/opendata-paris-81644-1
URL:https://pionra.fr/pt/events/opendata-paris-81644-1
STATUS:CONFIRMED
DTEND:20260423T190000Z
LOCATION:Tendance 19\, Tendance 19\, 143 Rue de Crimée\, Paris\, Paris
END:VEVENT
END:VCALENDAR
