BEGIN:VCALENDAR
VERSION:2.0
PRODID:-//Pionra//Events Calendar//EN
CALSCALE:GREGORIAN
METHOD:PUBLISH
X-WR-CALNAME:Petits travaux au jardin
X-WR-CALDESC:Jardin du Monde
BEGIN:VEVENT
UID:pionra-event-bordeaux-agenda-22196921@pionra.local
DTSTAMP:20260423T144239Z
DTSTART:20260430T123000Z
SUMMARY:Petits travaux au jardin
DESCRIPTION:Jardin du Monde\n\nhttps://pionra.fr/zh/events/bordeaux-agenda-
 22196921
URL:https://pionra.fr/zh/events/bordeaux-agenda-22196921
STATUS:CONFIRMED
DTEND:20260430T143000Z
LOCATION:Maison du jardinier et de la nature en ville\, 174 rue Mandron 330
 00 Bordeaux\, Bordeaux
END:VEVENT
END:VCALENDAR
