BEGIN:VCALENDAR
VERSION:2.0
PRODID:-//Pionra//Events Calendar//EN
CALSCALE:GREGORIAN
METHOD:PUBLISH
X-WR-CALNAME:Fête de la musique · circuit spots calmes
X-WR-CALDESC:Parcours pensé pour ceux qui veulent profiter sans se perdre 
 dans les foules les plus denses.
BEGIN:VEVENT
UID:pionra-event-events-seed-07@pionra.local
DTSTAMP:20260422T153904Z
DTSTART:20260509T183000Z
SUMMARY:Fête de la musique · circuit spots calmes
DESCRIPTION:Parcours pensé pour ceux qui veulent profiter sans se perdre d
 ans les foules les plus denses.\n\nhttps://pionra.fr/zh/events/events-seed
 -07
URL:https://pionra.fr/zh/events/events-seed-07
STATUS:CONFIRMED
DTEND:20260509T223000Z
LOCATION:Canal Saint-Martin\, Quai de Jemmapes\, Paris\, Paris
END:VEVENT
END:VCALENDAR
