BEGIN:VCALENDAR
VERSION:2.0
PRODID:-//Pionra//Events Calendar//EN
CALSCALE:GREGORIAN
METHOD:PUBLISH
X-WR-CALNAME:Atelier CV France · version internationale
X-WR-CALDESC:Atelier utile si ton CV reste trop général ou trop long pour
  les recruteurs français.
BEGIN:VEVENT
UID:pionra-event-events-seed-09@pionra.local
DTSTAMP:20260422T154032Z
DTSTART:20260516T183000Z
SUMMARY:Atelier CV France · version internationale
DESCRIPTION:Atelier utile si ton CV reste trop général ou trop long pour 
 les recruteurs français.\n\nhttps://pionra.fr/zh/events/events-seed-09
URL:https://pionra.fr/zh/events/events-seed-09
STATUS:CONFIRMED
DTEND:20260516T203000Z
LOCATION:Campus Connect\, 6 avenue Jean Médecin\, Nice\, Nice
END:VEVENT
END:VCALENDAR
