BEGIN:VCALENDAR
VERSION:2.0
PRODID:-//Pionra//Events Calendar//EN
CALSCALE:GREGORIAN
METHOD:PUBLISH
X-WR-CALNAME:Atelier réparation d'ordinateur
X-WR-CALDESC:Une fois par mois\, de 14h à 17h30\, venez réparer votre ord
 inateur et recevoir des conseils !
BEGIN:VEVENT
UID:pionra-event-nantes-agenda-70058@pionra.local
DTSTAMP:20260423T135555Z
DTSTART:20260529T120000Z
SUMMARY:Atelier réparation d'ordinateur
DESCRIPTION:Une fois par mois\, de 14h à 17h30\, venez réparer votre ordi
 nateur et recevoir des conseils !\n\nhttps://pionra.fr/zh/events/nantes-ag
 enda-70058
URL:https://pionra.fr/zh/events/nantes-agenda-70058
STATUS:CONFIRMED
DTEND:20260529T153000Z
LOCATION:Maison de quartier du Breil\, Maison de quartier du Breil\, 52 Rue
  du Breil\, 44100\, Nantes\, Nantes
END:VEVENT
END:VCALENDAR
