BEGIN:VCALENDAR
VERSION:2.0
PRODID:-//Pionra//Events Calendar//EN
CALSCALE:GREGORIAN
METHOD:PUBLISH
X-WR-CALNAME:Atelier arts plastiques
X-WR-CALDESC:Atelier arts plastiques\, tous les mardis après midi de 14h30
  à 17h30Encadré par une bénévole\, venez découvir différentes pratiq
 ues artistiques (peinture\, encre\, craies\, mouvements artistiques...)
BEGIN:VEVENT
UID:pionra-event-nantes-agenda-71181@pionra.local
DTSTAMP:20260423T135656Z
DTSTART:20260617T123000Z
SUMMARY:Atelier arts plastiques
DESCRIPTION:Atelier arts plastiques\, tous les mardis après midi de 14h30 
 à 17h30Encadré par une bénévole\, venez découvir différentes pratiqu
 es artistiques (peinture\, encre\, craies\, mouvements artistiques...)\n\n
 https://pionra.fr/zh/events/nantes-agenda-71181
URL:https://pionra.fr/zh/events/nantes-agenda-71181
STATUS:CONFIRMED
DTEND:20260617T123000Z
LOCATION:Centre socioculturel des Bourderies\, Centre socioculturel des Bou
 rderies\, 2A Rue de Saint Brévin\, 44100\, Nantes\, Nantes
END:VEVENT
END:VCALENDAR
