BEGIN:VCALENDAR
VERSION:2.0
PRODID:-//Pionra//Events Calendar//EN
CALSCALE:GREGORIAN
METHOD:PUBLISH
X-WR-CALNAME:Atelier magie et médias numériques
X-WR-CALDESC:De quoi les caméras de nos smartphones sont-elles capables ? 
 Avec la Compagnie Le Phalène\, interrogeons-nous sur les nouvelles illusi
 ons que permettent ces outils numériques. À partir de 13 ans.
BEGIN:VEVENT
UID:pionra-event-nice-agenda-44270-64ed9c480527a4@pionra.local
DTSTAMP:20260423T165215Z
DTSTART:20260423T120000Z
SUMMARY:Atelier magie et médias numériques
DESCRIPTION:De quoi les caméras de nos smartphones sont-elles capables ? A
 vec la Compagnie Le Phalène\, interrogeons-nous sur les nouvelles illusio
 ns que permettent ces outils numériques. À partir de 13 ans.\n\nhttps://
 pionra.fr/zh/events/nice-agenda-44270-64ed9c480527a4
URL:https://pionra.fr/zh/events/nice-agenda-44270-64ed9c480527a4
STATUS:CONFIRMED
DTEND:20260423T120000Z
LOCATION:Théâtre National de Nice &#8211\; Les Franciscains\, Théâtre N
 ational de Nice &#8211\; Les Franciscains\, 4-6 Place Saint-François\, 06
 300\, Nice\, Nice
END:VEVENT
END:VCALENDAR
