BEGIN:VCALENDAR
VERSION:2.0
PRODID:-//Pionra//Events Calendar//EN
CALSCALE:GREGORIAN
METHOD:PUBLISH
X-WR-CALNAME:Erin Brockovich
X-WR-CALDESC:Réalisé par Steven Soderbergh | Erin Brockovich | 2000 | 2h1
 1 | États-Unis Avec : Julia Roberts\, Albert Finney\, Aaron Eckhart
BEGIN:VEVENT
UID:pionra-event-nice-agenda-44922-64fe54cf7e9438@pionra.local
DTSTAMP:20260423T144513Z
DTSTART:20260502T141500Z
SUMMARY:Erin Brockovich
DESCRIPTION:Réalisé par Steven Soderbergh | Erin Brockovich | 2000 | 2h11
  | États-Unis Avec : Julia Roberts\, Albert Finney\, Aaron Eckhart\n\nhtt
 ps://pionra.fr/zh/events/nice-agenda-44922-64fe54cf7e9438
URL:https://pionra.fr/zh/events/nice-agenda-44922-64fe54cf7e9438
STATUS:CONFIRMED
DTEND:20260502T141500Z
LOCATION:Cinémathèque\, Cinémathèque\, Cinéma Megarama Nice Vauban - a
 venue François Mitterrand\, 06300\, Nice\, Nice
END:VEVENT
END:VCALENDAR
