BEGIN:VCALENDAR
VERSION:2.0
PRODID:-//Pionra//Events Calendar//EN
CALSCALE:GREGORIAN
METHOD:PUBLISH
X-WR-CALNAME:Le Testament d&rsquo\;Orphée
X-WR-CALDESC:Réalisé par Jean Cocteau | 1960 | 1h21 | France Avec : Jean 
 Cocteau\, Françoise Arnoul\, Claudine Auger\, Charles Aznavour\, Lucia Bo
 sè\, Yul Brynner\, María Casares\, Jean Marais
BEGIN:VEVENT
UID:pionra-event-nice-agenda-44937-64fe55777f48e0@pionra.local
DTSTAMP:20260423T144354Z
DTSTART:20260502T183000Z
SUMMARY:Le Testament d&rsquo\;Orphée
DESCRIPTION:Réalisé par Jean Cocteau | 1960 | 1h21 | France Avec : Jean C
 octeau\, Françoise Arnoul\, Claudine Auger\, Charles Aznavour\, Lucia Bos
 è\, Yul Brynner\, María Casares\, Jean Marais\n\nhttps://pionra.fr/zh/ev
 ents/nice-agenda-44937-64fe55777f48e0
URL:https://pionra.fr/zh/events/nice-agenda-44937-64fe55777f48e0
STATUS:CONFIRMED
DTEND:20260502T183000Z
LOCATION:Cinémathèque\, Cinémathèque\, Cinéma Megarama Nice Vauban - a
 venue François Mitterrand\, 06300\, Nice\, Nice
END:VEVENT
END:VCALENDAR
