BEGIN:VCALENDAR
VERSION:2.0
PRODID:-//Pionra//Events Calendar//EN
CALSCALE:GREGORIAN
METHOD:PUBLISH
X-WR-CALNAME:Stage de Samba
X-WR-CALDESC:Découvrez ou approfondissez la Samba lors d’un stage dynami
 que et accessible à tous !
BEGIN:VEVENT
UID:pionra-event-opendata-paris-78588-4@pionra.local
DTSTAMP:20260423T125849Z
DTSTART:20260423T173000Z
SUMMARY:Stage de Samba
DESCRIPTION:Découvrez ou approfondissez la Samba lors d’un stage dynamiq
 ue et accessible à tous !\n\nhttps://pionra.fr/zh/events/opendata-paris-7
 8588-4
URL:https://pionra.fr/zh/events/opendata-paris-78588-4
STATUS:CONFIRMED
DTEND:20260423T184500Z
LOCATION:Centre Paris Anim' Musidora (ex Bercy)\, Centre Paris Anim' Musido
 ra (ex Bercy)\, 51 rue François Truffaut\, Paris\, Paris
END:VEVENT
END:VCALENDAR
