BEGIN:VCALENDAR
VERSION:2.0
PRODID:-//Pionra//Events Calendar//EN
CALSCALE:GREGORIAN
METHOD:PUBLISH
X-WR-CALNAME:Pastel en concert (côté Records)
X-WR-CALDESC:Fans d'Oasis\, The Stone Roses\, Wunderhorse\, Cast… Votre n
 ouveau groupe préféré est là ! "Du shoegaze moderne avec une touche d'
 arrogance"\, c'est Pastel qui vous attendent au Supersonic Records !
BEGIN:VEVENT
UID:pionra-event-opendata-paris-79092-1@pionra.local
DTSTAMP:20260423T125850Z
DTSTART:20260423T180000Z
SUMMARY:Pastel en concert (côté Records)
DESCRIPTION:Fans d'Oasis\, The Stone Roses\, Wunderhorse\, Cast… Votre no
 uveau groupe préféré est là ! "Du shoegaze moderne avec une touche d'a
 rrogance"\, c'est Pastel qui vous attendent au Supersonic Records !\n\nhtt
 ps://pionra.fr/zh/events/opendata-paris-79092-1
URL:https://pionra.fr/zh/events/opendata-paris-79092-1
STATUS:CONFIRMED
DTEND:20260423T203000Z
LOCATION:Supersonic Records\, Supersonic Records\, 9 Rue Biscornet\, Paris\
 , Paris
END:VEVENT
END:VCALENDAR
