BEGIN:VCALENDAR
VERSION:2.0
PRODID:-//Pionra//Events Calendar//EN
CALSCALE:GREGORIAN
METHOD:PUBLISH
X-WR-CALNAME:Stage Éloquence 13-18 ans
X-WR-CALDESC:Prendre la parole sans stress\, captiver\, convaincre… et br
 iller à l'oral.
BEGIN:VEVENT
UID:pionra-event-opendata-paris-79492-3@pionra.local
DTSTAMP:20260423T125850Z
DTSTART:20260423T143000Z
SUMMARY:Stage Éloquence 13-18 ans
DESCRIPTION:Prendre la parole sans stress\, captiver\, convaincre… et bri
 ller à l'oral.\n\nhttps://pionra.fr/zh/events/opendata-paris-79492-3
URL:https://pionra.fr/zh/events/opendata-paris-79492-3
STATUS:CONFIRMED
DTEND:20260423T160000Z
LOCATION:Centre Paris Anim' Point du Jour\, Centre Paris Anim' Point du Jou
 r\, 1-9 rue du Général Malleterre\, Paris\, Paris
END:VEVENT
END:VCALENDAR
