BEGIN:VCALENDAR
VERSION:2.0
PRODID:-//Pionra//Events Calendar//EN
CALSCALE:GREGORIAN
METHOD:PUBLISH
X-WR-CALNAME:Carte blanche àTony Tixier\, invite Henri Texier\, concert au
  38Riv Jazz Club
X-WR-CALDESC:Jazz\, compositions — Tony Tixier est un pianiste et composi
 teur franco-américain\, formé au piano classique avant de se tourner ver
 s le jazz et l’improvisation\, développant une identité musicale mêla
 nt écriture et improv…
BEGIN:VEVENT
UID:pionra-event-opendata-paris-80222-2@pionra.local
DTSTAMP:20260423T125850Z
DTSTART:20260423T193000Z
SUMMARY:Carte blanche àTony Tixier\, invite Henri Texier\, concert au 38Ri
 v Jazz Club
DESCRIPTION:Jazz\, compositions — Tony Tixier est un pianiste et composit
 eur franco-américain\, formé au piano classique avant de se tourner vers
  le jazz et l’improvisation\, développant une identité musicale mêlan
 t écriture et improv…\n\nhttps://pionra.fr/zh/events/opendata-paris-802
 22-2
URL:https://pionra.fr/zh/events/opendata-paris-80222-2
STATUS:CONFIRMED
DTEND:20260423T203000Z
LOCATION:38Riv Jazz Club\, 38Riv Jazz Club\, 38\, rue de rivoli\, Paris\, P
 aris
END:VEVENT
END:VCALENDAR
