BEGIN:VCALENDAR
VERSION:2.0
PRODID:-//Pionra//Events Calendar//EN
CALSCALE:GREGORIAN
METHOD:PUBLISH
X-WR-CALNAME:Écoute-moi : spectacle musical avec Achille V et Hervé Delai
 ti au Bouffon Théâtre
X-WR-CALDESC:Un conte musical sensible et inspirant avec Achille V et Herv
 é Delaiti\, sur le courage d’être soi et la force de croire en ses rê
 ves.
BEGIN:VEVENT
UID:pionra-event-opendata-paris-81980-1@pionra.local
DTSTAMP:20260423T130000Z
DTSTART:20260423T190000Z
SUMMARY:Écoute-moi : spectacle musical avec Achille V et Hervé Delaiti au
  Bouffon Théâtre
DESCRIPTION:Un conte musical sensible et inspirant avec Achille V et Hervé
  Delaiti\, sur le courage d’être soi et la force de croire en ses rêve
 s.\n\nhttps://pionra.fr/zh/events/opendata-paris-81980-1
URL:https://pionra.fr/zh/events/opendata-paris-81980-1
STATUS:CONFIRMED
DTEND:20260423T201500Z
LOCATION:Bouffon Théatre\, Bouffon Théatre\, 26 rue de Meaux\, Paris\, Pa
 ris
END:VEVENT
END:VCALENDAR
