BEGIN:VCALENDAR
VERSION:2.0
PRODID:-//Pionra//Events Calendar//EN
CALSCALE:GREGORIAN
METHOD:PUBLISH
X-WR-CALNAME:Stage Self Défense
X-WR-CALDESC:Apprendre à se protéger avec assurance grâce à des techniq
 ues simples et efficaces.
BEGIN:VEVENT
UID:pionra-event-opendata-paris-82125-4@pionra.local
DTSTAMP:20260423T125943Z
DTSTART:20260423T160000Z
SUMMARY:Stage Self Défense
DESCRIPTION:Apprendre à se protéger avec assurance grâce à des techniqu
 es simples et efficaces.\n\nhttps://pionra.fr/zh/events/opendata-paris-821
 25-4
URL:https://pionra.fr/zh/events/opendata-paris-82125-4
STATUS:CONFIRMED
DTEND:20260423T173000Z
LOCATION:Centre Paris Anim' Musidora (ex Bercy)\, Centre Paris Anim' Musido
 ra (ex Bercy)\, 51 rue François Truffaut\, Paris\, Paris
END:VEVENT
END:VCALENDAR
