BEGIN:VCALENDAR
VERSION:2.0
PRODID:-//Pionra//Events Calendar//EN
CALSCALE:GREGORIAN
METHOD:PUBLISH
X-WR-CALNAME:Exposition de Jonathan Sullam au CWB|Paris
X-WR-CALDESC:A découvrir au Vaisseau Centre\, les installations « CRUNCH 
 VI » & « SLICE OF TIME » de Jonathan Sullam.
BEGIN:VEVENT
UID:pionra-event-opendata-paris-82304-12@pionra.local
DTSTAMP:20260423T125942Z
DTSTART:20260423T120000Z
SUMMARY:Exposition de Jonathan Sullam au CWB|Paris
DESCRIPTION:A découvrir au Vaisseau Centre\, les installations « CRUNCH V
 I » & « SLICE OF TIME » de Jonathan Sullam.\n\nhttps://pionra.fr/zh/eve
 nts/opendata-paris-82304-12
URL:https://pionra.fr/zh/events/opendata-paris-82304-12
STATUS:CONFIRMED
DTEND:20260423T190000Z
LOCATION:Centre Wallonie-Bruxelles\, Centre Wallonie-Bruxelles\, 127-129 ru
 e Saint-Martin\, Paris\, Paris
END:VEVENT
END:VCALENDAR
