BEGIN:VCALENDAR
VERSION:2.0
PRODID:-//Pionra//Events Calendar//EN
CALSCALE:GREGORIAN
METHOD:PUBLISH
X-WR-CALNAME:Nova Danse Open Air
X-WR-CALDESC:Pour célébrer les beaux jours\, Antoine Bourachot & friends 
 vous donnent rendez-vous le 24 avril pour une grande fête au Canal Barbot
 eur !
BEGIN:VEVENT
UID:pionra-event-opendata-paris-83258-1@pionra.local
DTSTAMP:20260423T125849Z
DTSTART:20260424T160000Z
SUMMARY:Nova Danse Open Air
DESCRIPTION:Pour célébrer les beaux jours\, Antoine Bourachot & friends v
 ous donnent rendez-vous le 24 avril pour une grande fête au Canal Barbote
 ur !\n\nhttps://pionra.fr/zh/events/opendata-paris-83258-1
URL:https://pionra.fr/zh/events/opendata-paris-83258-1
STATUS:CONFIRMED
DTEND:20260423T220000Z
LOCATION:Canal Barboteur\, Canal Barboteur\, 19\, quai du Lot\, Paris\, Par
 is
END:VEVENT
END:VCALENDAR
