BEGIN:VCALENDAR
VERSION:2.0
PRODID:-//Pionra//Events Calendar//EN
CALSCALE:GREGORIAN
METHOD:PUBLISH
X-WR-CALNAME:Jeudi de la BD : J. Personne
X-WR-CALDESC:Dans le cadre du cycle « Jeudis de la BD »\, la Bibliothèqu
 e publique d'information organise une rencontre avec J. Personne\, auteur 
 du roman graphique « Glitchs ».
BEGIN:VEVENT
UID:pionra-event-opendata-paris-83360-1@pionra.local
DTSTAMP:20260423T125943Z
DTSTART:20260423T170000Z
SUMMARY:Jeudi de la BD : J. Personne
DESCRIPTION:Dans le cadre du cycle « Jeudis de la BD »\, la Bibliothèque
  publique d'information organise une rencontre avec J. Personne\, auteur d
 u roman graphique « Glitchs ».\n\nhttps://pionra.fr/zh/events/opendata-p
 aris-83360-1
URL:https://pionra.fr/zh/events/opendata-paris-83360-1
STATUS:CONFIRMED
DTEND:20260423T183000Z
LOCATION:Bibliothèque publique d'information\, Bibliothèque publique d'in
 formation\, 40\, avenue des Terroirs de France\, Paris\, Paris
END:VEVENT
END:VCALENDAR
